Package: semisup Version: 1.28.0 Command: /Library/Frameworks/R.framework/Resources/bin/R CMD build --keep-empty-dirs --no-resave-data semisup StartedAt: 2024-10-17 09:03:10 -0400 (Thu, 17 Oct 2024) EndedAt: 2024-10-17 09:03:29 -0400 (Thu, 17 Oct 2024) EllapsedTime: 19.1 seconds RetCode: 0 Status: OK PackageFile: semisup_1.28.0.tar.gz PackageFileSize: 306.4 KiB