Package: semisup Version: 1.28.0 Command: rm -rf semisup.buildbin-libdir && mkdir semisup.buildbin-libdir && /Users/biocbuild/BBS/utils/build-universal.sh semisup_1.28.0.tar.gz /Library/Frameworks/R.framework/Resources/bin/R semisup.buildbin-libdir StartedAt: 2024-06-11 13:12:38 -0400 (Tue, 11 Jun 2024) EndedAt: 2024-06-11 13:12:44 -0400 (Tue, 11 Jun 2024) EllapsedTime: 6.6 seconds RetCode: 0 Status: OK PackageFile: semisup_1.28.0.tgz PackageFileSize: 374.2 KiB