Package: semisup Version: 1.28.0 Command: rm -rf semisup.buildbin-libdir && mkdir semisup.buildbin-libdir && F:\biocbuild\bbs-3.19-bioc\R\bin\R.exe CMD INSTALL --build --library=semisup.buildbin-libdir semisup_1.28.0.tar.gz StartedAt: 2024-06-27 08:54:24 -0400 (Thu, 27 Jun 2024) EndedAt: 2024-06-27 08:54:30 -0400 (Thu, 27 Jun 2024) EllapsedTime: 6.4 seconds RetCode: 0 Status: OK PackageFile: semisup_1.28.0.zip PackageFileSize: 377.1 KiB