Package: semisup Version: 1.28.0 Command: chmod a+r semisup -R && F:\biocbuild\bbs-3.19-bioc\R\bin\R.exe CMD build --keep-empty-dirs --no-resave-data semisup StartedAt: 2024-06-26 21:52:43 -0400 (Wed, 26 Jun 2024) EndedAt: 2024-06-26 21:53:04 -0400 (Wed, 26 Jun 2024) EllapsedTime: 20.9 seconds RetCode: 0 Status: OK PackageFile: semisup_1.28.0.tar.gz PackageFileSize: 301.8 KiB