Package: semisup Version: 1.28.0 Command: F:\biocbuild\bbs-3.19-bioc\R\bin\R.exe CMD check --no-multiarch --install=check:semisup.install-out.txt --library=F:\biocbuild\bbs-3.19-bioc\R\library --no-vignettes --timings semisup_1.28.0.tar.gz StartedAt: 2024-06-27 06:04:16 -0400 (Thu, 27 Jun 2024) EndedAt: 2024-06-27 06:05:03 -0400 (Thu, 27 Jun 2024) EllapsedTime: 47.6 seconds RetCode: 0 Status: OK CheckDir: semisup.Rcheck Warnings: 0