Package: semisup Version: 1.28.0 Command: chmod a+r semisup -R && E:\biocbuild\bbs-3.19-bioc\R\bin\R.exe CMD build --keep-empty-dirs --no-resave-data semisup StartedAt: 2024-10-16 21:53:44 -0400 (Wed, 16 Oct 2024) EndedAt: 2024-10-16 21:54:07 -0400 (Wed, 16 Oct 2024) EllapsedTime: 22.9 seconds RetCode: 0 Status: OK PackageFile: semisup_1.28.0.tar.gz PackageFileSize: 302.6 KiB