Package: seq.hotSPOT Version: 1.4.0 Command: /Library/Frameworks/R.framework/Resources/bin/R CMD INSTALL seq.hotSPOT StartedAt: 2024-06-09 15:10:00 -0400 (Sun, 09 Jun 2024) EndedAt: 2024-06-09 15:10:05 -0400 (Sun, 09 Jun 2024) EllapsedTime: 4.3 seconds RetCode: 0 Status: OK