Package: seq.hotSPOT Version: 1.4.0 Command: /home/biocbuild/R/R-beta-2024-04-15_r86425/bin/R CMD build --keep-empty-dirs --no-resave-data seq.hotSPOT StartedAt: 2024-05-09 03:32:53 -0000 (Thu, 09 May 2024) EndedAt: 2024-05-09 03:33:04 -0000 (Thu, 09 May 2024) EllapsedTime: 10.0 seconds RetCode: 0 Status: OK PackageFile: seq.hotSPOT_1.4.0.tar.gz PackageFileSize: 1.424 MiB