Package: seq.hotSPOT Version: 1.4.0 Command: /Library/Frameworks/R.framework/Resources/bin/R CMD build --keep-empty-dirs --no-resave-data seq.hotSPOT StartedAt: 2024-06-09 18:09:42 -0400 (Sun, 09 Jun 2024) EndedAt: 2024-06-09 18:09:52 -0400 (Sun, 09 Jun 2024) EllapsedTime: 10.1 seconds RetCode: 0 Status: OK PackageFile: seq.hotSPOT_1.4.0.tar.gz PackageFileSize: 1.401 MiB