Package: seq.hotSPOT Version: 1.4.0 Command: /Library/Frameworks/R.framework/Resources/bin/R CMD build --keep-empty-dirs --no-resave-data seq.hotSPOT StartedAt: 2024-10-16 23:14:20 -0400 (Wed, 16 Oct 2024) EndedAt: 2024-10-16 23:14:45 -0400 (Wed, 16 Oct 2024) EllapsedTime: 24.8 seconds RetCode: 0 Status: OK PackageFile: seq.hotSPOT_1.4.0.tar.gz PackageFileSize: 1.401 MiB