Package: seq.hotSPOT Version: 1.4.0 Command: rm -rf seq.hotSPOT.buildbin-libdir && mkdir seq.hotSPOT.buildbin-libdir && E:\biocbuild\bbs-3.19-bioc\R\bin\R.exe CMD INSTALL --build --library=seq.hotSPOT.buildbin-libdir seq.hotSPOT_1.4.0.tar.gz StartedAt: 2024-10-17 08:37:06 -0400 (Thu, 17 Oct 2024) EndedAt: 2024-10-17 08:37:15 -0400 (Thu, 17 Oct 2024) EllapsedTime: 8.4 seconds RetCode: 0 Status: OK PackageFile: seq.hotSPOT_1.4.0.zip PackageFileSize: 279.4 KiB