Package: seq.hotSPOT Version: 1.4.0 Command: E:\biocbuild\bbs-3.19-bioc\R\bin\R.exe CMD INSTALL seq.hotSPOT StartedAt: 2024-10-16 16:05:06 -0400 (Wed, 16 Oct 2024) EndedAt: 2024-10-16 16:05:19 -0400 (Wed, 16 Oct 2024) EllapsedTime: 12.9 seconds RetCode: 0 Status: OK