Package: seq2pathway Version: 1.36.0 Command: /home/biocbuild/R/R-beta-2024-04-15_r86425/bin/R CMD check --install=check:seq2pathway.install-out.txt --library=/home/biocbuild/R/R-beta-2024-04-15_r86425/site-library --no-vignettes --timings seq2pathway_1.36.0.tar.gz StartedAt: 2024-05-09 11:51:24 -0000 (Thu, 09 May 2024) EndedAt: 2024-05-09 11:56:12 -0000 (Thu, 09 May 2024) EllapsedTime: 288.5 seconds RetCode: 0 Status: WARNINGS CheckDir: seq2pathway.Rcheck Warnings: 2