Package: seq2pathway Version: 1.36.0 Command: rm -rf seq2pathway.buildbin-libdir && mkdir seq2pathway.buildbin-libdir && /Users/biocbuild/BBS/utils/build-universal.sh seq2pathway_1.36.0.tar.gz /Library/Frameworks/R.framework/Resources/bin/R seq2pathway.buildbin-libdir StartedAt: 2024-10-17 17:10:35 -0400 (Thu, 17 Oct 2024) EndedAt: 2024-10-17 17:11:31 -0400 (Thu, 17 Oct 2024) EllapsedTime: 56.1 seconds RetCode: 0 Status: OK PackageFile: seq2pathway_1.36.0.tgz PackageFileSize: 935.7 KiB