Package: seq2pathway Version: 1.36.0 Command: /home/biocbuild/bbs-3.19-bioc/R/bin/R CMD build --keep-empty-dirs --no-resave-data seq2pathway StartedAt: 2024-10-16 20:47:58 -0400 (Wed, 16 Oct 2024) EndedAt: 2024-10-16 20:48:55 -0400 (Wed, 16 Oct 2024) EllapsedTime: 57.1 seconds RetCode: 0 Status: OK PackageFile: seq2pathway_1.36.0.tar.gz PackageFileSize: 1.418 MiB