Package: seqArchR Version: 1.8.0 Maintainer: Sarvesh Nikumbh MaintainerEmail: sarvesh.nikumbh at gmail.com git_url: https://git.bioconductor.org/packages/seqArchR git_branch: RELEASE_3_19 git_last_commit: 3c13d82 git_last_commit_date: 2024-04-30 11:41:25 -0400 (Tue, 30 Apr 2024)