Package: seqArchR Version: 1.8.0 Command: /Library/Frameworks/R.framework/Resources/bin/R CMD build --keep-empty-dirs --no-resave-data seqArchR StartedAt: 2024-10-17 09:03:41 -0400 (Thu, 17 Oct 2024) EndedAt: 2024-10-17 09:05:00 -0400 (Thu, 17 Oct 2024) EllapsedTime: 79.7 seconds RetCode: 0 Status: OK PackageFile: seqArchR_1.8.0.tar.gz PackageFileSize: 4.769 MiB