Package: seqArchR Version: 1.8.0 Command: /Library/Frameworks/R.framework/Resources/bin/R CMD INSTALL seqArchR StartedAt: 2024-10-16 16:21:38 -0400 (Wed, 16 Oct 2024) EndedAt: 2024-10-16 16:21:57 -0400 (Wed, 16 Oct 2024) EllapsedTime: 18.6 seconds RetCode: 0 Status: OK