Package: seqArchR Version: 1.8.0 Command: /Library/Frameworks/R.framework/Resources/bin/R CMD check --install=check:seqArchR.install-out.txt --library=/Library/Frameworks/R.framework/Resources/library --no-vignettes --timings seqArchR_1.8.0.tar.gz StartedAt: 2024-06-11 05:17:43 -0400 (Tue, 11 Jun 2024) EndedAt: 2024-06-11 05:24:39 -0400 (Tue, 11 Jun 2024) EllapsedTime: 415.9 seconds RetCode: 0 Status: OK CheckDir: seqArchR.Rcheck Warnings: 0