Package: seqArchR Version: 1.8.0 Command: /Library/Frameworks/R.framework/Resources/bin/R CMD build --keep-empty-dirs --no-resave-data seqArchR StartedAt: 2024-10-16 23:14:24 -0400 (Wed, 16 Oct 2024) EndedAt: 2024-10-16 23:16:01 -0400 (Wed, 16 Oct 2024) EllapsedTime: 96.1 seconds RetCode: 0 Status: OK PackageFile: seqArchR_1.8.0.tar.gz PackageFileSize: 4.77 MiB