Package: seqArchR Version: 1.8.0 Command: rm -rf seqArchR.buildbin-libdir && mkdir seqArchR.buildbin-libdir && F:\biocbuild\bbs-3.19-bioc\R\bin\R.exe CMD INSTALL --build --library=seqArchR.buildbin-libdir seqArchR_1.8.0.tar.gz StartedAt: 2024-06-27 08:54:30 -0400 (Thu, 27 Jun 2024) EndedAt: 2024-06-27 08:54:57 -0400 (Thu, 27 Jun 2024) EllapsedTime: 26.5 seconds RetCode: 0 Status: OK PackageFile: seqArchR_1.8.0.zip PackageFileSize: 1.48 MiB