Package: seqArchR Version: 1.8.0 Command: rm -rf seqArchR.buildbin-libdir && mkdir seqArchR.buildbin-libdir && E:\biocbuild\bbs-3.19-bioc\R\bin\R.exe CMD INSTALL --build --library=seqArchR.buildbin-libdir seqArchR_1.8.0.tar.gz StartedAt: 2024-10-17 08:37:15 -0400 (Thu, 17 Oct 2024) EndedAt: 2024-10-17 08:37:46 -0400 (Thu, 17 Oct 2024) EllapsedTime: 30.7 seconds RetCode: 0 Status: OK PackageFile: seqArchR_1.8.0.zip PackageFileSize: 1.48 MiB