Package: seqCAT Version: 1.26.0 Command: /Library/Frameworks/R.framework/Resources/bin/R CMD build --keep-empty-dirs --no-resave-data seqCAT StartedAt: 2024-10-17 09:05:51 -0400 (Thu, 17 Oct 2024) EndedAt: 2024-10-17 09:08:59 -0400 (Thu, 17 Oct 2024) EllapsedTime: 187.5 seconds RetCode: 0 Status: OK PackageFile: seqCAT_1.26.0.tar.gz PackageFileSize: 1.895 MiB