Package: seqCAT Version: 1.26.0 Command: /Library/Frameworks/R.framework/Resources/bin/R CMD INSTALL seqCAT StartedAt: 2024-10-16 18:37:32 -0400 (Wed, 16 Oct 2024) EndedAt: 2024-10-16 18:38:18 -0400 (Wed, 16 Oct 2024) EllapsedTime: 45.6 seconds RetCode: 0 Status: OK