Package: seqLogo Version: 1.70.0 Command: rm -rf seqLogo.buildbin-libdir && mkdir seqLogo.buildbin-libdir && /Users/biocbuild/BBS/utils/build-universal.sh seqLogo_1.70.0.tar.gz /Library/Frameworks/R.framework/Resources/bin/R seqLogo.buildbin-libdir StartedAt: 2024-10-15 20:16:47 -0400 (Tue, 15 Oct 2024) EndedAt: 2024-10-15 20:16:54 -0400 (Tue, 15 Oct 2024) EllapsedTime: 6.9 seconds RetCode: 0 Status: OK PackageFile: seqLogo_1.70.0.tgz PackageFileSize: 859.8 KiB