Package: seqLogo Version: 1.70.0 Command: rm -rf seqLogo.buildbin-libdir && mkdir seqLogo.buildbin-libdir && /Users/biocbuild/BBS/utils/build-universal.sh seqLogo_1.70.0.tar.gz /Library/Frameworks/R.framework/Resources/bin/R seqLogo.buildbin-libdir StartedAt: 2024-06-11 13:13:18 -0400 (Tue, 11 Jun 2024) EndedAt: 2024-06-11 13:13:27 -0400 (Tue, 11 Jun 2024) EllapsedTime: 9.1 seconds RetCode: 0 Status: OK PackageFile: seqLogo_1.70.0.tgz PackageFileSize: 864.7 KiB