Package: seqLogo Version: 1.70.0 Command: /Library/Frameworks/R.framework/Resources/bin/R CMD build --keep-empty-dirs --no-resave-data seqLogo StartedAt: 2024-06-10 04:43:28 -0400 (Mon, 10 Jun 2024) EndedAt: 2024-06-10 04:43:51 -0400 (Mon, 10 Jun 2024) EllapsedTime: 23.2 seconds RetCode: 0 Status: OK PackageFile: seqLogo_1.70.0.tar.gz PackageFileSize: 1.152 MiB