Package: seqLogo Version: 1.70.0 Command: /home/biocbuild/R/R-beta-2024-04-15_r86425/bin/R CMD build --keep-empty-dirs --no-resave-data seqLogo StartedAt: 2024-05-09 03:34:23 -0000 (Thu, 09 May 2024) EndedAt: 2024-05-09 03:34:33 -0000 (Thu, 09 May 2024) EllapsedTime: 10.0 seconds RetCode: 0 Status: OK PackageFile: seqLogo_1.70.0.tar.gz PackageFileSize: 896.3 KiB