Package: seqLogo Version: 1.70.0 Command: /home/biocbuild/R/R-beta-2024-04-15_r86425/bin/R CMD check --install=check:seqLogo.install-out.txt --library=/home/biocbuild/R/R-beta-2024-04-15_r86425/site-library --no-vignettes --timings seqLogo_1.70.0.tar.gz StartedAt: 2024-05-09 11:53:04 -0000 (Thu, 09 May 2024) EndedAt: 2024-05-09 11:53:29 -0000 (Thu, 09 May 2024) EllapsedTime: 25.0 seconds RetCode: 0 Status: OK CheckDir: seqLogo.Rcheck Warnings: 0