Package: seqLogo Version: 1.70.0 Command: rm -rf seqLogo.buildbin-libdir && mkdir seqLogo.buildbin-libdir && /Users/biocbuild/BBS/utils/build-universal.sh seqLogo_1.70.0.tar.gz /Library/Frameworks/R.framework/Resources/bin/R seqLogo.buildbin-libdir StartedAt: 2024-06-10 00:39:37 -0400 (Mon, 10 Jun 2024) EndedAt: 2024-06-10 00:39:44 -0400 (Mon, 10 Jun 2024) EllapsedTime: 6.8 seconds RetCode: 0 Status: OK PackageFile: seqLogo_1.70.0.tgz PackageFileSize: 864.5 KiB