Package: seqLogo Version: 1.70.0 Command: /Library/Frameworks/R.framework/Resources/bin/R CMD check --install=check:seqLogo.install-out.txt --library=/Library/Frameworks/R.framework/Resources/library --no-vignettes --timings seqLogo_1.70.0.tar.gz StartedAt: 2024-06-09 23:01:39 -0400 (Sun, 09 Jun 2024) EndedAt: 2024-06-09 23:02:12 -0400 (Sun, 09 Jun 2024) EllapsedTime: 32.7 seconds RetCode: 0 Status: OK CheckDir: seqLogo.Rcheck Warnings: 0