Package: seqLogo Version: 1.70.0 Command: /Library/Frameworks/R.framework/Resources/bin/R CMD build --keep-empty-dirs --no-resave-data seqLogo StartedAt: 2024-10-16 23:15:41 -0400 (Wed, 16 Oct 2024) EndedAt: 2024-10-16 23:16:03 -0400 (Wed, 16 Oct 2024) EllapsedTime: 21.9 seconds RetCode: 0 Status: OK PackageFile: seqLogo_1.70.0.tar.gz PackageFileSize: 1.151 MiB