Package: seqLogo Version: 1.70.0 Command: /Library/Frameworks/R.framework/Resources/bin/R CMD check --install=check:seqLogo.install-out.txt --library=/Library/Frameworks/R.framework/Resources/library --no-vignettes --timings seqLogo_1.70.0.tar.gz StartedAt: 2024-10-17 13:03:12 -0400 (Thu, 17 Oct 2024) EndedAt: 2024-10-17 13:04:05 -0400 (Thu, 17 Oct 2024) EllapsedTime: 52.8 seconds RetCode: 0 Status: OK CheckDir: seqLogo.Rcheck Warnings: 0