Package: seqLogo Version: 1.70.0 Command: /home/biocbuild/bbs-3.19-bioc/R/bin/R CMD build --keep-empty-dirs --no-resave-data seqLogo StartedAt: 2024-10-16 20:48:36 -0400 (Wed, 16 Oct 2024) EndedAt: 2024-10-16 20:48:43 -0400 (Wed, 16 Oct 2024) EllapsedTime: 7.0 seconds RetCode: 0 Status: OK PackageFile: seqLogo_1.70.0.tar.gz PackageFileSize: 898.1 KiB