Package: seqLogo Version: 1.70.0 Command: /home/biocbuild/bbs-3.19-bioc/R/bin/R CMD check --install=check:seqLogo.install-out.txt --library=/home/biocbuild/bbs-3.19-bioc/R/site-library --timings seqLogo_1.70.0.tar.gz StartedAt: 2024-10-17 05:03:46 -0400 (Thu, 17 Oct 2024) EndedAt: 2024-10-17 05:04:11 -0400 (Thu, 17 Oct 2024) EllapsedTime: 25.0 seconds RetCode: 0 Status: OK CheckDir: seqLogo.Rcheck Warnings: 0