Package: seqLogo Version: 1.70.0 Command: rm -rf seqLogo.buildbin-libdir && mkdir seqLogo.buildbin-libdir && E:\biocbuild\bbs-3.19-bioc\R\bin\R.exe CMD INSTALL --build --library=seqLogo.buildbin-libdir seqLogo_1.70.0.tar.gz StartedAt: 2024-10-17 08:37:36 -0400 (Thu, 17 Oct 2024) EndedAt: 2024-10-17 08:37:44 -0400 (Thu, 17 Oct 2024) EllapsedTime: 8.0 seconds RetCode: 0 Status: OK PackageFile: seqLogo_1.70.0.zip PackageFileSize: 508.9 KiB