Package: seqLogo Version: 1.70.0 Command: chmod a+r seqLogo -R && E:\biocbuild\bbs-3.19-bioc\R\bin\R.exe CMD build --keep-empty-dirs --no-resave-data seqLogo StartedAt: 2024-10-16 21:54:33 -0400 (Wed, 16 Oct 2024) EndedAt: 2024-10-16 21:54:48 -0400 (Wed, 16 Oct 2024) EllapsedTime: 15.3 seconds RetCode: 0 Status: OK PackageFile: seqLogo_1.70.0.tar.gz PackageFileSize: 825.7 KiB