Package: sesame Version: 1.22.2 Maintainer: Wanding Zhou MaintainerEmail: zhouwanding at gmail.com git_url: https://git.bioconductor.org/packages/sesame git_branch: RELEASE_3_19 git_last_commit: 94fbff1 git_last_commit_date: 2024-06-23 09:46:49 -0400 (Sun, 23 Jun 2024)