Package: sesame Version: 1.22.2 Command: rm -rf sesame.buildbin-libdir && mkdir sesame.buildbin-libdir && E:\biocbuild\bbs-3.19-bioc\R\bin\R.exe CMD INSTALL --build --library=sesame.buildbin-libdir sesame_1.22.2.tar.gz StartedAt: 2024-10-17 08:37:54 -0400 (Thu, 17 Oct 2024) EndedAt: 2024-10-17 08:39:46 -0400 (Thu, 17 Oct 2024) EllapsedTime: 112.3 seconds RetCode: 0 Status: OK PackageFile: sesame_1.22.2.zip PackageFileSize: 19.16 MiB