Package: sevenC Version: 1.24.0 Command: /Library/Frameworks/R.framework/Resources/bin/R CMD build --keep-empty-dirs --no-resave-data sevenC StartedAt: 2024-10-17 09:13:48 -0400 (Thu, 17 Oct 2024) EndedAt: 2024-10-17 09:14:52 -0400 (Thu, 17 Oct 2024) EllapsedTime: 64.3 seconds RetCode: 0 Status: OK PackageFile: sevenC_1.24.0.tar.gz PackageFileSize: 1.932 MiB