Package: sevenC Version: 1.24.0 Command: /Library/Frameworks/R.framework/Resources/bin/R CMD check --install=check:sevenC.install-out.txt --library=/Library/Frameworks/R.framework/Resources/library --no-vignettes --timings sevenC_1.24.0.tar.gz StartedAt: 2024-10-18 12:11:20 -0400 (Fri, 18 Oct 2024) EndedAt: 2024-10-18 12:15:46 -0400 (Fri, 18 Oct 2024) EllapsedTime: 265.5 seconds RetCode: 0 Status: OK CheckDir: sevenC.Rcheck Warnings: 0