Package: sevenC Version: 1.24.0 Command: /home/biocbuild/R/R-beta-2024-04-15_r86425/bin/R CMD build --keep-empty-dirs --no-resave-data sevenC StartedAt: 2024-05-09 03:35:28 -0000 (Thu, 09 May 2024) EndedAt: 2024-05-09 03:37:00 -0000 (Thu, 09 May 2024) EllapsedTime: 92.1 seconds RetCode: 0 Status: OK PackageFile: sevenC_1.24.0.tar.gz PackageFileSize: 1.994 MiB