Package: sevenC Version: 1.24.0 Command: rm -rf sevenC.buildbin-libdir && mkdir sevenC.buildbin-libdir && /Users/biocbuild/BBS/utils/build-universal.sh sevenC_1.24.0.tar.gz /Library/Frameworks/R.framework/Resources/bin/R sevenC.buildbin-libdir StartedAt: 2024-10-17 17:11:49 -0400 (Thu, 17 Oct 2024) EndedAt: 2024-10-17 17:12:46 -0400 (Thu, 17 Oct 2024) EllapsedTime: 56.3 seconds RetCode: 0 Status: OK PackageFile: sevenC_1.24.0.tgz PackageFileSize: 2.042 MiB