Package: sevenC Version: 1.24.0 Command: /Library/Frameworks/R.framework/Resources/bin/R CMD check --install=check:sevenC.install-out.txt --library=/Library/Frameworks/R.framework/Resources/library --no-vignettes --timings sevenC_1.24.0.tar.gz StartedAt: 2024-10-17 13:07:53 -0400 (Thu, 17 Oct 2024) EndedAt: 2024-10-17 13:15:43 -0400 (Thu, 17 Oct 2024) EllapsedTime: 470.0 seconds RetCode: 0 Status: OK CheckDir: sevenC.Rcheck Warnings: 0