Package: sevenC Version: 1.24.0 Command: /Library/Frameworks/R.framework/Resources/bin/R CMD INSTALL sevenC StartedAt: 2024-10-16 15:34:27 -0400 (Wed, 16 Oct 2024) EndedAt: 2024-10-16 15:35:19 -0400 (Wed, 16 Oct 2024) EllapsedTime: 52.5 seconds RetCode: 0 Status: OK