Package: sevenC Version: 1.24.0 Command: rm -rf sevenC.buildbin-libdir && mkdir sevenC.buildbin-libdir && F:\biocbuild\bbs-3.19-bioc\R\bin\R.exe CMD INSTALL --build --library=sevenC.buildbin-libdir sevenC_1.24.0.tar.gz StartedAt: 2024-06-27 08:55:18 -0400 (Thu, 27 Jun 2024) EndedAt: 2024-06-27 08:55:54 -0400 (Thu, 27 Jun 2024) EllapsedTime: 36.6 seconds RetCode: 0 Status: OK PackageFile: sevenC_1.24.0.zip PackageFileSize: 2.032 MiB