Package: shinyepico Version: 1.12.0 Command: rm -rf shinyepico.buildbin-libdir && mkdir shinyepico.buildbin-libdir && /Users/biocbuild/BBS/utils/build-universal.sh shinyepico_1.12.0.tar.gz /Library/Frameworks/R.framework/Resources/bin/R shinyepico.buildbin-libdir StartedAt: 2024-10-17 17:12:00 -0400 (Thu, 17 Oct 2024) EndedAt: 2024-10-17 17:12:15 -0400 (Thu, 17 Oct 2024) EllapsedTime: 15.0 seconds RetCode: 0 Status: OK PackageFile: shinyepico_1.12.0.tgz PackageFileSize: 1.47 MiB