Package: shinyepico Version: 1.12.0 Command: chmod a+r shinyepico -R && F:\biocbuild\bbs-3.19-bioc\R\bin\R.exe CMD build --keep-empty-dirs --no-resave-data shinyepico StartedAt: 2024-06-26 21:56:11 -0400 (Wed, 26 Jun 2024) EndedAt: 2024-06-26 21:56:32 -0400 (Wed, 26 Jun 2024) EllapsedTime: 21.0 seconds RetCode: 0 Status: OK PackageFile: shinyepico_1.12.0.tar.gz PackageFileSize: 2.247 MiB