Package: sigFeature Version: 1.22.0 Command: rm -rf sigFeature.buildbin-libdir && mkdir sigFeature.buildbin-libdir && F:\biocbuild\bbs-3.19-bioc\R\bin\R.exe CMD INSTALL --build --library=sigFeature.buildbin-libdir sigFeature_1.22.0.tar.gz StartedAt: 2024-06-27 08:55:39 -0400 (Thu, 27 Jun 2024) EndedAt: 2024-06-27 08:56:23 -0400 (Thu, 27 Jun 2024) EllapsedTime: 44.6 seconds RetCode: 0 Status: OK PackageFile: sigFeature_1.22.0.zip PackageFileSize: 400.7 KiB