Package: siggenes Version: 1.78.0 Command: /home/biocbuild/R/R-beta-2024-04-15_r86425/bin/R CMD build --keep-empty-dirs --no-resave-data siggenes StartedAt: 2024-05-09 03:37:06 -0000 (Thu, 09 May 2024) EndedAt: 2024-05-09 03:37:40 -0000 (Thu, 09 May 2024) EllapsedTime: 34.0 seconds RetCode: 0 Status: OK PackageFile: siggenes_1.78.0.tar.gz PackageFileSize: 732.5 KiB